BEGIN:VCALENDAR
VERSION:2.0
PRODID:-//The Knuckle Saloon - ECPv6.15.17//NONSGML v1.0//EN
CALSCALE:GREGORIAN
METHOD:PUBLISH
X-WR-CALNAME:The Knuckle Saloon
X-ORIGINAL-URL:https://www.theknuckle.com
X-WR-CALDESC:Events for The Knuckle Saloon
REFRESH-INTERVAL;VALUE=DURATION:PT1H
X-Robots-Tag:noindex
X-PUBLISHED-TTL:PT1H
BEGIN:VTIMEZONE
TZID:America/Denver
BEGIN:DAYLIGHT
TZOFFSETFROM:-0700
TZOFFSETTO:-0600
TZNAME:MDT
DTSTART:20250309T090000
END:DAYLIGHT
BEGIN:STANDARD
TZOFFSETFROM:-0600
TZOFFSETTO:-0700
TZNAME:MST
DTSTART:20251102T080000
END:STANDARD
BEGIN:DAYLIGHT
TZOFFSETFROM:-0700
TZOFFSETTO:-0600
TZNAME:MDT
DTSTART:20260308T090000
END:DAYLIGHT
BEGIN:STANDARD
TZOFFSETFROM:-0600
TZOFFSETTO:-0700
TZNAME:MST
DTSTART:20261101T080000
END:STANDARD
BEGIN:DAYLIGHT
TZOFFSETFROM:-0700
TZOFFSETTO:-0600
TZNAME:MDT
DTSTART:20270314T090000
END:DAYLIGHT
BEGIN:STANDARD
TZOFFSETFROM:-0600
TZOFFSETTO:-0700
TZNAME:MST
DTSTART:20271107T080000
END:STANDARD
END:VTIMEZONE
BEGIN:VEVENT
DTSTART;TZID=America/Denver:20260722T120000
DTEND;TZID=America/Denver:20260722T150000
DTSTAMP:20260425T061732
CREATED:20240606T041449Z
LAST-MODIFIED:20260415T184413Z
UID:567-1784721600-1784732400@www.theknuckle.com
SUMMARY:Music on Main with Brews&BBQ at The Knuckle
DESCRIPTION:Join The Knuckle Saloon at Rally Point for Music on Main. \n\n\n\n June 24 & July 22 \n\n\n\n 6PM–9PM \n\n\n\n Across from the BBQ side \n\n\n\nWe’ll have a tent set up serving cold beer during the show. Come grab a drink and enjoy the music with us.(If you see Curtis Wish him HAPPY BIRTHDAY)
URL:https://www.theknuckle.com/event/music-on-main-with-stereo-trip/
CATEGORIES:Music on Main
END:VEVENT
END:VCALENDAR